BEGIN:VCALENDAR
VERSION:2.0
PRODID:-//eventon.com NONSGML v1.0//EN
BEGIN:VEVENT
UID:69e739047524c
DTSTAMP:20260421T084452
DTSTART:20250116T180000Z
DTEND:20250116T190000Z
TZID:America/Chicago
LOCATION:Four Season&#039;s Centre for the Performing Arts 145 Queen Street West\,  ON M5H 4G1
SUMMARY:Dance Ontario Dance Weekend Preview - Featuring Bears Stars and Trees
DESCRIPTION: An interactive event featuring a talk back with choreographer Malgorzata Nowacka-May and cast\,  composer Eric Cadesky\,  and a showing of Bears Stars and Trees.\nhttps://chimeradt.com/events/dance-ontario-preview-bears-stars-and-trees/
URL:https://chimeradt.com/events/dance-ontario-preview-bears-stars-and-trees/
END:VEVENT
END:VCALENDAR